BEGIN:VCALENDAR
VERSION:2.0
PRODID:-//Nailed It! - ECPv6.15.20//NONSGML v1.0//EN
CALSCALE:GREGORIAN
METHOD:PUBLISH
X-WR-CALNAME:Nailed It!
X-ORIGINAL-URL:https://astant.profreed.com
X-WR-CALDESC:Events for Nailed It!
REFRESH-INTERVAL;VALUE=DURATION:PT1H
X-Robots-Tag:noindex
X-PUBLISHED-TTL:PT1H
BEGIN:VTIMEZONE
TZID:America/Los_Angeles
BEGIN:DAYLIGHT
TZOFFSETFROM:-0800
TZOFFSETTO:-0700
TZNAME:PDT
DTSTART:20250309T100000
END:DAYLIGHT
BEGIN:STANDARD
TZOFFSETFROM:-0700
TZOFFSETTO:-0800
TZNAME:PST
DTSTART:20251102T090000
END:STANDARD
BEGIN:DAYLIGHT
TZOFFSETFROM:-0800
TZOFFSETTO:-0700
TZNAME:PDT
DTSTART:20260308T100000
END:DAYLIGHT
BEGIN:STANDARD
TZOFFSETFROM:-0700
TZOFFSETTO:-0800
TZNAME:PST
DTSTART:20261101T090000
END:STANDARD
BEGIN:DAYLIGHT
TZOFFSETFROM:-0800
TZOFFSETTO:-0700
TZNAME:PDT
DTSTART:20270314T100000
END:DAYLIGHT
BEGIN:STANDARD
TZOFFSETFROM:-0700
TZOFFSETTO:-0800
TZNAME:PST
DTSTART:20271107T090000
END:STANDARD
END:VTIMEZONE
BEGIN:VEVENT
DTSTART;TZID=America/Los_Angeles:20260711T110000
DTEND;TZID=America/Los_Angeles:20260711T170000
DTSTAMP:20260423T165548
CREATED:20260410T223141Z
LAST-MODIFIED:20260410T223141Z
UID:313-1783767600-1783789200@astant.profreed.com
SUMMARY:Summer Nail-a-thon!
DESCRIPTION:Attend our bi-annual Nail-a-thon where you can create your own set of “Nailed It!” nails! All nail supplies will be offered\, including multiple nail shapes and sizes\, polishes\, UV lamps\, and plenty of fun and festive decor to add some charm to your set. Only $15 at the door! \nTIME: 11AM \nLOCATION: JCSU Ballrooms \nBe aware that there are only 70 spots available. RSVPs will be coming out soon\, so don’t forget to sign up for “Nailed it!” notifications to claim your spot!
URL:https://astant.profreed.com/event/summer-nail-a-thon/
END:VEVENT
BEGIN:VEVENT
DTSTART;VALUE=DATE:20260803
DTEND;VALUE=DATE:20260804
DTSTAMP:20260423T165548
CREATED:20260410T223820Z
LAST-MODIFIED:20260410T223820Z
UID:318-1785715200-1785801599@astant.profreed.com
SUMMARY:Annual FLASH SALE!
DESCRIPTION:Don’t miss our annual FLASH SALE\, where all nail sets are $8 each\, regardless of nail shape\, size\, or design! You don’t want to miss our largest sale of the year!
URL:https://astant.profreed.com/event/annual-flash-sale/
END:VEVENT
BEGIN:VEVENT
DTSTART;TZID=America/Los_Angeles:20261212T110000
DTEND;TZID=America/Los_Angeles:20261212T170000
DTSTAMP:20260423T165548
CREATED:20260410T223518Z
LAST-MODIFIED:20260410T223518Z
UID:316-1797073200-1797094800@astant.profreed.com
SUMMARY:Winter Nail-a-thon!
DESCRIPTION:Attend our bi-annual Nail-a-thon where you can create your own set of “Nailed It!” nails! All nail supplies will be offered\, including multiple nail shapes and sizes\, polishes\, UV lamps\, and plenty of fun and festive decor to add some charm to your set. Only $15 at the door! \nTIME: 11AM \nLOCATION: JCSU Ballrooms \nBe aware that there are only 70 spots available. RSVPs will be coming out soon\, so don’t forget to sign up for “Nailed it!” notifications to claim your spot!
URL:https://astant.profreed.com/event/winter-nail-a-thon/
END:VEVENT
END:VCALENDAR